BEGIN:VCALENDAR
VERSION:2.0
PRODID:-//Maryland FarmLINK - ECPv6.15.20//NONSGML v1.0//EN
CALSCALE:GREGORIAN
METHOD:PUBLISH
X-WR-CALNAME:Maryland FarmLINK
X-ORIGINAL-URL:https://marylandfarmlink.com
X-WR-CALDESC:Events for Maryland FarmLINK
REFRESH-INTERVAL;VALUE=DURATION:PT1H
X-Robots-Tag:noindex
X-PUBLISHED-TTL:PT1H
BEGIN:VTIMEZONE
TZID:America/New_York
BEGIN:DAYLIGHT
TZOFFSETFROM:-0500
TZOFFSETTO:-0400
TZNAME:EDT
DTSTART:20240310T070000
END:DAYLIGHT
BEGIN:STANDARD
TZOFFSETFROM:-0400
TZOFFSETTO:-0500
TZNAME:EST
DTSTART:20241103T060000
END:STANDARD
BEGIN:DAYLIGHT
TZOFFSETFROM:-0500
TZOFFSETTO:-0400
TZNAME:EDT
DTSTART:20250309T070000
END:DAYLIGHT
BEGIN:STANDARD
TZOFFSETFROM:-0400
TZOFFSETTO:-0500
TZNAME:EST
DTSTART:20251102T060000
END:STANDARD
BEGIN:DAYLIGHT
TZOFFSETFROM:-0500
TZOFFSETTO:-0400
TZNAME:EDT
DTSTART:20260308T070000
END:DAYLIGHT
BEGIN:STANDARD
TZOFFSETFROM:-0400
TZOFFSETTO:-0500
TZNAME:EST
DTSTART:20261101T060000
END:STANDARD
END:VTIMEZONE
BEGIN:VEVENT
DTSTART;TZID=America/New_York:20250129T000000
DTEND;TZID=America/New_York:20250129T000000
DTSTAMP:20260420T022701
CREATED:20250107T172005Z
LAST-MODIFIED:20250107T172230Z
UID:1187-1738108800-1738108800@marylandfarmlink.com
SUMMARY:Landowner Oriented Agricultural Law Workshops
DESCRIPTION:The free program will cover those legal issues that Maryland landowners may face. A grant funds the program through the Northeast Risk Management Education Center. \nThe workshop will feature Paul Goeringer\, a Principal Faculty Specialist and Extension Specialist in agricultural law. He will address leasing\, landowner liability issues\, right-to-farm law\, fencing laws\, livestock liability\, and estate planning. The workshops will also involve research related to solar development by Elizabeth Thilmany\, a Faculty Specialist in AREC. \n“These workshops will be a great opportunity for landowners and other professionals in rural areas to learn about some of the basic legal issues that many deal with daily. They can understand their rights and responsibilities whether they are involved in agriculture or own land in a rural area\,” said Goeringer. \nLunch is provided with the workshops. Each workshop will begin at 9 am with a check-in\, and the workshops will run from 9:30 am to 3:30 pm
URL:https://marylandfarmlink.com/event/landowner-oriented-agricultural-law-workshops/
END:VEVENT
BEGIN:VEVENT
DTSTART;TZID=America/New_York:20250122T000000
DTEND;TZID=America/New_York:20250122T000000
DTSTAMP:20260420T022701
CREATED:20250107T172402Z
LAST-MODIFIED:20250107T172408Z
UID:1186-1737504000-1737504000@marylandfarmlink.com
SUMMARY:Landowner Oriented Agricultural Law Workshops
DESCRIPTION:The free program will cover those legal issues that Maryland landowners may face. A grant funds the program through the Northeast Risk Management Education Center. \nThe workshop will feature Paul Goeringer\, a Principal Faculty Specialist and Extension Specialist in agricultural law. He will address leasing\, landowner liability issues\, right-to-farm law\, fencing laws\, livestock liability\, and estate planning. The workshops will also involve research related to solar development by Elizabeth Thilmany\, a Faculty Specialist in AREC. \n“These workshops will be a great opportunity for landowners and other professionals in rural areas to learn about some of the basic legal issues that many deal with daily. They can understand their rights and responsibilities whether they are involved in agriculture or own land in a rural area\,” said Goeringer. \nLunch is provided with the workshops. Each workshop will begin at 9 am with a check-in\, and the workshops will run from 9:30 am to 3:30 pm.
URL:https://marylandfarmlink.com/event/landowner-oriented-agricultural-law-workshops-2/
END:VEVENT
END:VCALENDAR